BEGIN:VCALENDAR
VERSION:2.0
PRODID:-//National Institute of Science - ECPv6.15.20//NONSGML v1.0//EN
CALSCALE:GREGORIAN
METHOD:PUBLISH
X-WR-CALNAME:National Institute of Science
X-ORIGINAL-URL:https://nisweb.org
X-WR-CALDESC:Events for National Institute of Science
REFRESH-INTERVAL;VALUE=DURATION:PT1H
X-Robots-Tag:noindex
X-PUBLISHED-TTL:PT1H
BEGIN:VTIMEZONE
TZID:America/Chicago
BEGIN:DAYLIGHT
TZOFFSETFROM:-0600
TZOFFSETTO:-0500
TZNAME:CDT
DTSTART:20220313T080000
END:DAYLIGHT
BEGIN:STANDARD
TZOFFSETFROM:-0500
TZOFFSETTO:-0600
TZNAME:CST
DTSTART:20221106T070000
END:STANDARD
BEGIN:DAYLIGHT
TZOFFSETFROM:-0600
TZOFFSETTO:-0500
TZNAME:CDT
DTSTART:20230312T080000
END:DAYLIGHT
BEGIN:STANDARD
TZOFFSETFROM:-0500
TZOFFSETTO:-0600
TZNAME:CST
DTSTART:20231105T070000
END:STANDARD
BEGIN:DAYLIGHT
TZOFFSETFROM:-0600
TZOFFSETTO:-0500
TZNAME:CDT
DTSTART:20240310T080000
END:DAYLIGHT
BEGIN:STANDARD
TZOFFSETFROM:-0500
TZOFFSETTO:-0600
TZNAME:CST
DTSTART:20241103T070000
END:STANDARD
BEGIN:DAYLIGHT
TZOFFSETFROM:-0600
TZOFFSETTO:-0500
TZNAME:CDT
DTSTART:20250309T080000
END:DAYLIGHT
BEGIN:STANDARD
TZOFFSETFROM:-0500
TZOFFSETTO:-0600
TZNAME:CST
DTSTART:20251102T070000
END:STANDARD
END:VTIMEZONE
BEGIN:VEVENT
DTSTART;VALUE=DATE:20240327
DTEND;VALUE=DATE:20240331
DTSTAMP:20260424T104558
CREATED:20230909T080335Z
LAST-MODIFIED:20231213T190406Z
UID:2723-1711497600-1711843199@nisweb.org
SUMMARY:79th Joint Meeting of BKX and NIS
DESCRIPTION:79th Joint Meeting of BKX and NIS.The 79th Joint Meeting of NIS and BKX will be held March 27 – 30\, 2024 at the Embassy Suites hotel in Montgomery\, Alabama. Alabama State University will host the meeting. More information about the conference is posted on the Annual Meeting page. Registration and abstract submissions are open.
URL:https://nisweb.org/event/79th-joint-meeting-of-bkx-and-nis/
LOCATION:Embassy Suites Hotel\, 300 Tallapoosa Street\, Montgomery\, Alabama\, 36104\, United States
CATEGORIES:Joint Annual Meeting
ATTACH;FMTTYPE=image/jpeg:https://nisweb.org/wp-content/uploads/2016/03/IMG_6323-rotated.jpg
ORGANIZER;CN="NIS":MAILTO:support@nisweb.org
END:VEVENT
BEGIN:VEVENT
DTSTART;TZID=America/Chicago:20230329T000000
DTEND;TZID=America/Chicago:20230630T235900
DTSTAMP:20260424T104558
CREATED:20160316T175245Z
LAST-MODIFIED:20230627T222637Z
UID:618-1680048000-1688169540@nisweb.org
SUMMARY:78th Joint Meeting of BKX and NIS
DESCRIPTION:78th Joint Meeting of BKX and NIS78th Beta Kappa Chi and the National Institute of Science Joint Annual Meeting will be hosted on March 29 – April 1\, 2023 in Charlotte\, North Carolina. \nTheme: A BKX Centennial Celebration Honoring the Past\, Embracing the Present\, and Celebrating the Future \nPlease visit betakappachi.org for information about the upcoming BKX-NIS Joint Meeting which will be held from March 30 – April 1\, 2023 at the Sonesta Charlotte Executive Park in Charlotte\, NC. \nThe host university is North Carolina A&T University.
URL:https://nisweb.org/event/78th-joint-meeting-of-bkx-and-nis/
LOCATION:SONESTA CHARLOTTE EXECUTIVE PARKWAY\, Sonesta Charlotte Executive Park\, 5700 Westpark Drive\,\, Charlotte\, NC\, 28217\, United States
CATEGORIES:Joint Annual Meeting
ATTACH;FMTTYPE=image/jpeg:https://nisweb.org/wp-content/uploads/2016/03/IMG_6323-rotated.jpg
END:VEVENT
END:VCALENDAR